BEGIN:VCALENDAR
VERSION:2.0
PRODID:-//163.47.74.65//NONSGML kigkonsult.se iCalcreator 2.24.2//
CALSCALE:GREGORIAN
METHOD:PUBLISH
X-WR-CALNAME:1st Wembley Downs Scout Group
X-WR-CALDESC:
X-FROM-URL:http://www.1wdsg.org.au
X-WR-TIMEZONE:Australia/Perth
BEGIN:VTIMEZONE
TZID:Australia/Perth
X-LIC-LOCATION:Australia/Perth
BEGIN:STANDARD
DTSTART:20090329T030000
TZOFFSETFROM:+0900
TZOFFSETTO:+0800
TZNAME:AWST
END:STANDARD
END:VTIMEZONE
BEGIN:VEVENT
UID:ai1ec-199@www.1wdsg.org.au
DTSTAMP:20210224T133739Z
CATEGORIES;LANGUAGE=en:Venturers
CONTACT:
DESCRIPTION:<p>Challenge the horrible scouts</p>
DTSTART;TZID=Australia/Perth:20181022T184500
DTEND;TZID=Australia/Perth:20181022T204500
GEO:-31.915882;+115.774657
LOCATION:Wembley Downs Scout Hall @ Dover Cres\, Wembley Downs WA 6019\, Au
 stralia
SEQUENCE:0
SUMMARY:Scout Challenge
URL:http://www.1wdsg.org.au/event/scout-challenge/
X-COST-TYPE:free
X-TAGS;LANGUAGE=en:Den
END:VEVENT
END:VCALENDAR
